Workbook

Sheet Wireline offshore
C2: ARCHER WIRELINE
B4: Lønnssatser gjeldende fra 1.6.2026 | Q4: Sett inn egen
E5: Sokkelkompensasjon (av grunnlønn): | I5: 0.21 | Q5: avtalt årslønn
C7: Stillinger Archer | D7: Satser | E7: 2 | F7: 3 | G7: 4 | H7: 5 | I7: 6 | J7: 7 | K7: 8 | L7: 9 | M7: 10 | N7: 11 | O7: 12 | Q7: Individuell | S7: Individuell minimum 12 år
C8: Brønnspesialist | D8: Årslønn | H8: 939198 | I8: 944198 | J8: 949198 | K8: 954198 | L8: 959198 | M8: 964198 | N8: 969198 | O8: 974198 | Q8: 1044000 | S8: 1144000
C9: Loggeingeniør | D9: Daglig sokkelkompensasjon | H9: =(H8-H8/(1+$I$5))/146 -> 1116.4473 | I9: =(I8-I8/(1+$I$5))/146 -> 1122.3909 | J9: =(J8-J8/(1+$I$5))/146 -> 1128.3345 | K9: =(K8-K8/(1+$I$5))/146 -> 1134.2782 | L9: =(L8-L8/(1+$I$5))/146 -> 1140.2218 | M9: =(M8-M8/(1+$I$5))/146 -> 1146.1654 | N9: =(N8-N8/(1+$I$5))/146 -> 1152.109 | O9: =(O8-O8/(1+$I$5))/146 -> 1158.0526 | Q9: =(Q8-Q8/(1+$I$5))/146 -> 1241.028 | S9: =(S8-S8/(1+$I$5))/146 -> 1359.9004
B10: A | D10: Månedslønn | H10: =(H8-(146*H9))/12 -> 64683.058 | I10: =(I8-(146*I9))/12 -> 65027.41 | J10: =(J8-(146*J9))/12 -> 65371.763 | K10: =(K8-(146*K9))/12 -> 65716.116 | L10: =(L8-(146*L9))/12 -> 66060.468 | M10: =(M8-(146*M9))/12 -> 66404.821 | N10: =(N8-(146*N9))/12 -> 66749.174 | O10: =(O8-(146*O9))/12 -> 67093.526 | Q10: =(Q8-(146*Q9))/12 -> 71900.826 | S10: =(S8-(146*S9))/12 -> 78787.879
D11: Justert månedslønn | H11: =H10*47.08/52.14 -> 58405.799 | I11: =I10*47.08/52.14 -> 58716.734 | J11: =J10*47.08/52.14 -> 59027.668 | K11: =K10*47.08/52.14 -> 59338.602 | L11: =L10*47.08/52.14 -> 59649.537 | M11: =M10*47.08/52.14 -> 59960.471 | N11: =N10*47.08/52.14 -> 60271.406 | O11: =O10*47.08/52.14 -> 60582.34 | Q11: =Q10*47.08/52.14 -> 64923.109 | S11: =S10*47.08/52.14 -> 71141.798
D12: Fastlønn 2-4 skiftplan (7,71 % trekk) | H12: =H8/12/52.14*47.08*(1-0.0771) -> 65222.281 | I12: =I8/12/52.14*47.08*(1-0.0771) -> 65569.505 | J12: =J8/12/52.14*47.08*(1-0.0771) -> 65916.728 | K12: =K8/12/52.14*47.08*(1-0.0771) -> 66263.951 | L12: =L8/12/52.14*47.08*(1-0.0771) -> 66611.175 | M12: =M8/12/52.14*47.08*(1-0.0771) -> 66958.398 | N12: =N8/12/52.14*47.08*(1-0.0771) -> 67305.621 | O12: =O8/12/52.14*47.08*(1-0.0771) -> 67652.844 | Q12: =Q8/12/52.14*47.08*(1-0.0771) -> 72500.22 | S12: =S8/12/52.14*47.08*(1-0.0771) -> 79444.686
D13: Offshore pr. time | H13: =H8/1752 -> 536.07192 | I13: =I8/1752 -> 538.9258 | J13: =J8/1752 -> 541.77968 | K13: =K8/1752 -> 544.63356 | L13: =L8/1752 -> 547.48744 | M13: =M8/1752 -> 550.34132 | N13: =N8/1752 -> 553.19521 | O13: =O8/1752 -> 556.04909 | Q13: =Q8/1752 -> 595.89041 | S13: =S8/1752 -> 652.96804
D14: Offshore overtid pr. time | H14: =H13*1.65 -> 884.51866 | I14: =I13*1.65 -> 889.22757 | J14: =J13*1.65 -> 893.93647 | K14: =K13*1.65 -> 898.64538 | L14: =L13*1.65 -> 903.35428 | M14: =M13*1.65 -> 908.06318 | N14: =N13*1.65 -> 912.77209 | O14: =O13*1.65 -> 917.48099 | Q14: =Q13*1.65 -> 983.21918 | S14: =S13*1.65 -> 1077.3973
D15: Onshore pr. time | H15: =H10/162.5 -> 398.04959 | I15: =I10/162.5 -> 400.16868 | J15: =J10/162.5 -> 402.28777 | K15: =K10/162.5 -> 404.40687 | L15: =L10/162.5 -> 406.52596 | M15: =M10/162.5 -> 408.64505 | N15: =N10/162.5 -> 410.76414 | O15: =O10/162.5 -> 412.88324 | Q15: =Q10/162.5 -> 442.46662 | S15: =S10/162.5 -> 484.84848
D16: Onshore overtid 50 % | H16: =H15*1.5 -> 597.07438 | I16: =I15*1.5 -> 600.25302 | J16: =J15*1.5 -> 603.43166 | K16: =K15*1.5 -> 606.6103 | L16: =L15*1.5 -> 609.78894 | M16: =M15*1.5 -> 612.96758 | N16: =N15*1.5 -> 616.14622 | O16: =O15*1.5 -> 619.32486 | Q16: =Q15*1.5 -> 663.69994 | S16: =S15*1.5 -> 727.27273
D17: Onshore overtid 100 % | H17: =H15*2 -> 796.09917 | I17: =I15*2 -> 800.33736 | J17: =J15*2 -> 804.57555 | K17: =K15*2 -> 808.81373 | L17: =L15*2 -> 813.05192 | M17: =M15*2 -> 817.2901 | N17: =N15*2 -> 821.52829 | O17: =O15*2 -> 825.76648 | Q17: =Q15*2 -> 884.93325 | S17: =S15*2 -> 969.69697
C18: Senior brønnoperatør | D18: =D8 -> Årslønn | H18: 911381 | I18: 916381 | J18: 921381 | K18: 926381 | L18: 931381 | M18: 936381 | N18: 941381 | O18: 946381
C19: Jr. loggeingeniør | D19: =D9 -> Daglig sokkelkompensasjon | H19: =(H18-H18/(1+$I$5))/146 -> 1083.3806 | I19: =(I18-I18/(1+$I$5))/146 -> 1089.3242 | J19: =(J18-J18/(1+$I$5))/146 -> 1095.2678 | K19: =(K18-K18/(1+$I$5))/146 -> 1101.2114 | L19: =(L18-L18/(1+$I$5))/146 -> 1107.155 | M19: =(M18-M18/(1+$I$5))/146 -> 1113.0987 | N19: =(N18-N18/(1+$I$5))/146 -> 1119.0423 | O19: =(O18-O18/(1+$I$5))/146 -> 1124.9859
B20: B | D20: =D10 -> Månedslønn | H20: =(H18-(146*H19))/12 -> 62767.287 | I20: =(I18-(146*I19))/12 -> 63111.639 | J20: =(J18-(146*J19))/12 -> 63455.992 | K20: =(K18-(146*K19))/12 -> 63800.344 | L20: =(L18-(146*L19))/12 -> 64144.697 | M20: =(M18-(146*M19))/12 -> 64489.05 | N20: =(N18-(146*N19))/12 -> 64833.402 | O20: =(O18-(146*O19))/12 -> 65177.755
D21: =D11 -> Justert månedslønn | H21: =H20*47.08/52.14 -> 56675.946 | I21: =I20*47.08/52.14 -> 56986.881 | J21: =J20*47.08/52.14 -> 57297.815 | K21: =K20*47.08/52.14 -> 57608.75 | L21: =L20*47.08/52.14 -> 57919.684 | M21: =M20*47.08/52.14 -> 58230.619 | N21: =N20*47.08/52.14 -> 58541.553 | O21: =O20*47.08/52.14 -> 58852.487
D22: Fastlønn 2-4 skiftplan (7,71 % trekk) | H22: =H18/12/52.14*47.08*(1-0.0771) -> 63290.539 | I22: =I18/12/52.14*47.08*(1-0.0771) -> 63637.763 | J22: =J18/12/52.14*47.08*(1-0.0771) -> 63984.986 | K22: =K18/12/52.14*47.08*(1-0.0771) -> 64332.209 | L22: =L18/12/52.14*47.08*(1-0.0771) -> 64679.433 | M22: =M18/12/52.14*47.08*(1-0.0771) -> 65026.656 | N22: =N18/12/52.14*47.08*(1-0.0771) -> 65373.879 | O22: =O18/12/52.14*47.08*(1-0.0771) -> 65721.102
D23: =D13 -> Offshore pr. time | H23: =H18/1752 -> 520.19463 | I23: =I18/1752 -> 523.04852 | J23: =J18/1752 -> 525.9024 | K23: =K18/1752 -> 528.75628 | L23: =L18/1752 -> 531.61016 | M23: =M18/1752 -> 534.46404 | N23: =N18/1752 -> 537.31792 | O23: =O18/1752 -> 540.1718
D24: =D14 -> Offshore overtid pr. time | H24: =H23*1.65 -> 858.32115 | I24: =I23*1.65 -> 863.03005 | J24: =J23*1.65 -> 867.73896 | K24: =K23*1.65 -> 872.44786 | L24: =L23*1.65 -> 877.15676 | M24: =M23*1.65 -> 881.86567 | N24: =N23*1.65 -> 886.57457 | O24: =O23*1.65 -> 891.28348
D25: =D15 -> Onshore pr. time | H25: =H20/162.5 -> 386.26022 | I25: =I20/162.5 -> 388.37932 | J25: =J20/162.5 -> 390.49841 | K25: =K20/162.5 -> 392.6175 | L25: =L20/162.5 -> 394.7366 | M25: =M20/162.5 -> 396.85569 | N25: =N20/162.5 -> 398.97478 | O25: =O20/162.5 -> 401.09388
D26: =D16 -> Onshore overtid 50 % | H26: =H25*1.5 -> 579.39034 | I26: =I25*1.5 -> 582.56898 | J26: =J25*1.5 -> 585.74762 | K26: =K25*1.5 -> 588.92626 | L26: =L25*1.5 -> 592.1049 | M26: =M25*1.5 -> 595.28353 | N26: =N25*1.5 -> 598.46217 | O26: =O25*1.5 -> 601.64081
D27: =D17 -> Onshore overtid 100 % | H27: =H25*2 -> 772.52045 | I27: =I25*2 -> 776.75864 | J27: =J25*2 -> 780.99682 | K27: =K25*2 -> 785.23501 | L27: =L25*2 -> 789.47319 | M27: =M25*2 -> 793.71138 | N27: =N25*2 -> 797.94957 | O27: =O25*2 -> 802.18775
C28: Brønnoperatør | D28: =D18 -> Årslønn | F28: 872866 | G28: 888810 | H28: 892614 | I28: 897614 | J28: 902614 | K28: 907614 | L28: 912614 | M28: 917614 | N28: 922614 | O28: 927614
D29: =D19 -> Daglig sokkelkompensasjon | F29: =(F28-F28/(1+$I$5))/146 -> 1037.5969 | G29: =(G28-G28/(1+$I$5))/146 -> 1056.5499 | H29: =(H28-H28/(1+$I$5))/146 -> 1061.0718 | I29: =(I28-I28/(1+$I$5))/146 -> 1067.0154 | J29: =(J28-J28/(1+$I$5))/146 -> 1072.959 | K29: =(K28-K28/(1+$I$5))/146 -> 1078.9026 | L29: =(L28-L28/(1+$I$5))/146 -> 1084.8463 | M29: =(M28-M28/(1+$I$5))/146 -> 1090.7899 | ... O29: =(O28-O28/(1+$I$5))/146 -> 1102.6771
B30: C | D30: =D20 -> Månedslønn | F30: =(F28-(146*F29))/12 -> 60114.738 | G30: =(G28-(146*G29))/12 -> 61212.81 | H30: =(H28-(146*H29))/12 -> 61474.793 | I30: =(I28-(146*I29))/12 -> 61819.146 | J30: =(J28-(146*J29))/12 -> 62163.499 | K30: =(K28-(146*K29))/12 -> 62507.851 | L30: =(L28-(146*L29))/12 -> 62852.204 | M30: =(M28-(146*M29))/12 -> 63196.556 | ... O30: =(O28-(146*O29))/12 -> 63885.262
D31: =D21 -> Justert månedslønn | F31: =F30*47.08/52.14 -> 54280.819 | G31: =G30*47.08/52.14 -> 55272.326 | H31: =H30*47.08/52.14 -> 55508.885 | I31: =I30*47.08/52.14 -> 55819.82 | J31: =J30*47.08/52.14 -> 56130.754 | K31: =K30*47.08/52.14 -> 56441.688 | L31: =L30*47.08/52.14 -> 56752.623 | M31: =M30*47.08/52.14 -> 57063.557 | ... O31: =O30*47.08/52.14 -> 57685.426
D32: Fastlønn 2-4 skiftplan (7,71 % trekk) | F32: =F28/12/52.14*47.08*(1-0.0771) -> 60615.879 | G32: =G28/12/52.14*47.08*(1-0.0771) -> 61723.104 | H32: =H28/12/52.14*47.08*(1-0.0771) -> 61987.272 | I32: =I28/12/52.14*47.08*(1-0.0771) -> 62334.495 | J32: =J28/12/52.14*47.08*(1-0.0771) -> 62681.718 | K32: =K28/12/52.14*47.08*(1-0.0771) -> 63028.941 | L32: =L28/12/52.14*47.08*(1-0.0771) -> 63376.165 | M32: =M28/12/52.14*47.08*(1-0.0771) -> 63723.388 | ... O32: =O28/12/52.14*47.08*(1-0.0771) -> 64417.835
D33: =D23 -> Offshore pr. time | F33: =F28/1752 -> 498.21119 | G33: =G28/1752 -> 507.31164 | H33: =H28/1752 -> 509.48288 | I33: =I28/1752 -> 512.33676 | J33: =J28/1752 -> 515.19064 | K33: =K28/1752 -> 518.04452 | L33: =L28/1752 -> 520.8984 | M33: =M28/1752 -> 523.75228 | ... O33: =O28/1752 -> 529.46005
D34: =D24 -> Offshore overtid pr. time | F34: =F33*1.65 -> 822.04846 | G34: =G33*1.65 -> 837.06421 | H34: =H33*1.65 -> 840.64675 | I34: =I33*1.65 -> 845.35565 | J34: =J33*1.65 -> 850.06455 | K34: =K33*1.65 -> 854.77346 | L34: =L33*1.65 -> 859.48236 | M34: =M33*1.65 -> 864.19127 | ... O34: =O33*1.65 -> 873.60908
D35: =D25 -> Onshore pr. time | F35: =F30/162.5 -> 369.93685 | G35: =G30/162.5 -> 376.69421 | H35: =H30/162.5 -> 378.30642 | I35: =I30/162.5 -> 380.42551 | J35: =J30/162.5 -> 382.54461 | K35: =K30/162.5 -> 384.6637 | L35: =L30/162.5 -> 386.78279 | M35: =M30/162.5 -> 388.90189 | ... O35: =O30/162.5 -> 393.14007
D36: =D26 -> Onshore overtid 50 % | F36: =F35*1.5 -> 554.90528 | G36: =G35*1.5 -> 565.04132 | H36: =H35*1.5 -> 567.45963 | I36: =I35*1.5 -> 570.63827 | J36: =J35*1.5 -> 573.81691 | K36: =K35*1.5 -> 576.99555 | L36: =L35*1.5 -> 580.17419 | M36: =M35*1.5 -> 583.35283 | ... O36: =O35*1.5 -> 589.71011
D37: =D27 -> Onshore overtid 100 % | F37: =F35*2 -> 739.8737 | G37: =G35*2 -> 753.38843 | H37: =H35*2 -> 756.61284 | I37: =I35*2 -> 760.85103 | J37: =J35*2 -> 765.08921 | K37: =K35*2 -> 769.3274 | L37: =L35*2 -> 773.56559 | M37: =M35*2 -> 777.80377 | ... O37: =O35*2 -> 786.28014
C38: Opplæringsstillinger | D38: =D28 -> Årslønn | H38: 820187 | I38: 825187 | J38: 830187 | K38: 835187 | L38: 840187 | M38: 845187 | N38: 850187 | O38: 855187
C39: (Ikke fagarbeidere) | D39: =D29 -> Daglig sokkelkompensasjon | H39: =(H38-H38/(1+$I$5))/146 -> 974.97606 | I39: =(I38-I38/(1+$I$5))/146 -> 980.91968 | J39: =(J38-J38/(1+$I$5))/146 -> 986.8633 | K39: =(K38-K38/(1+$I$5))/146 -> 992.80692 | L39: =(L38-L38/(1+$I$5))/146 -> 998.75054 | M39: =(M38-M38/(1+$I$5))/146 -> 1004.6942 | N39: =(N38-N38/(1+$I$5))/146 -> 1010.6378 | O39: =(O38-O38/(1+$I$5))/146 -> 1016.5814
B40: E | D40: =D30 -> Månedslønn | H40: =(H38-(146*H39))/12 -> 56486.708 | I40: =(I38-(146*I39))/12 -> 56831.061 | J40: =(J38-(146*J39))/12 -> 57175.413 | K40: =(K38-(146*K39))/12 -> 57519.766 | L40: =(L38-(146*L39))/12 -> 57864.118 | M40: =(M38-(146*M39))/12 -> 58208.471 | N40: =(N38-(146*N39))/12 -> 58552.824 | O40: =(O38-(146*O39))/12 -> 58897.176
D41: =D31 -> Justert månedslønn | H41: =H40*47.08/52.14 -> 51004.876 | I41: =I40*47.08/52.14 -> 51315.81 | J41: =J40*47.08/52.14 -> 51626.744 | K41: =K40*47.08/52.14 -> 51937.679 | L41: =L40*47.08/52.14 -> 52248.613 | M41: =M40*47.08/52.14 -> 52559.548 | N41: =N40*47.08/52.14 -> 52870.482 | O41: =O40*47.08/52.14 -> 53181.417
D42: Fastlønn 2-4 skiftplan (7,71 % trekk) | H42: =H38/12/52.14*47.08*(1-0.0771) -> 56957.604 | I42: =I38/12/52.14*47.08*(1-0.0771) -> 57304.827 | J42: =J38/12/52.14*47.08*(1-0.0771) -> 57652.05 | K42: =K38/12/52.14*47.08*(1-0.0771) -> 57999.273 | L42: =L38/12/52.14*47.08*(1-0.0771) -> 58346.497 | M42: =M38/12/52.14*47.08*(1-0.0771) -> 58693.72 | N42: =N38/12/52.14*47.08*(1-0.0771) -> 59040.943 | O42: =O38/12/52.14*47.08*(1-0.0771) -> 59388.167
D43: =D33 -> Offshore pr. time | H43: =H38/1752 -> 468.14326 | I43: =I38/1752 -> 470.99715 | J43: =J38/1752 -> 473.85103 | K43: =K38/1752 -> 476.70491 | L43: =L38/1752 -> 479.55879 | M43: =M38/1752 -> 482.41267 | N43: =N38/1752 -> 485.26655 | O43: =O38/1752 -> 488.12043
...

Sheet Oiltools offshore
C2: ARCHER OILTOOLS
B4: Lønnssatser gjeldende fra 1.6.2025 | Q4: Sett inn egen
E5: Sokkelkompensasjon (av grunnlønn): | I5: 0.47 | Q5: avtalt årslønn
C7: Stillinger Archer | D7: Satser | E7: 2 | F7: 3 | G7: 4 | H7: 5 | I7: 6 | J7: 7 | K7: 8 | L7: 9 | M7: 10 | N7: 11 | O7: 12 | Q7: Individuell
D8: Årslønn | H8: ='Wireline offshore'!H8 -> 939198 | I8: ='Wireline offshore'!I8 -> 944198 | J8: ='Wireline offshore'!J8 -> 949198 | K8: ='Wireline offshore'!K8 -> 954198 | L8: ='Wireline offshore'!L8 -> 959198 | M8: ='Wireline offshore'!M8 -> 964198 | N8: ='Wireline offshore'!N8 -> 969198 | O8: ='Wireline offshore'!O8 -> 974198 | Q8: 1000152
D9: Daglig sokkelkompensasjon | H9: =(H8-H8/(1+$I$5))/146 -> 2056.7657 | I9: =(I8-I8/(1+$I$5))/146 -> 2067.7153 | J9: =(J8-J8/(1+$I$5))/146 -> 2078.6649 | K9: =(K8-K8/(1+$I$5))/146 -> 2089.6145 | L9: =(L8-L8/(1+$I$5))/146 -> 2100.5641 | M9: =(M8-M8/(1+$I$5))/146 -> 2111.5137 | N9: =(N8-N8/(1+$I$5))/146 -> 2122.4632 | O9: =(O8-O8/(1+$I$5))/146 -> 2133.4128 | Q9: =(Q8-Q8/(1+$I$5))/146 -> 2190.2499
B10: A | D10: Månedslønn | H10: =(H8-(146*H9))/12 -> 53242.517 | I10: =(I8-(146*I9))/12 -> 53525.964 | J10: =(J8-(146*J9))/12 -> 53809.41 | K10: =(K8-(146*K9))/12 -> 54092.857 | L10: =(L8-(146*L9))/12 -> 54376.304 | M10: =(M8-(146*M9))/12 -> 54659.751 | N10: =(N8-(146*N9))/12 -> 54943.197 | O10: =(O8-(146*O9))/12 -> 55226.644 | Q10: =(Q8-(146*Q9))/12 -> 56697.959
D11: Justert månedslønn | H11: =H10*47.08/52.14 -> 48075.522 | I11: =I10*47.08/52.14 -> 48331.461 | J11: =J10*47.08/52.14 -> 48587.4 | K11: =K10*47.08/52.14 -> 48843.339 | L11: =L10*47.08/52.14 -> 49099.279 | M11: =M10*47.08/52.14 -> 49355.218 | N11: =N10*47.08/52.14 -> 49611.157 | O11: =O10*47.08/52.14 -> 49867.096 | Q11: =Q10*47.08/52.14 -> 51195.626
D12: Fastlønn 2-4 skiftplan (7,71 % trekk) | H12: =H8/12/52.14*47.08*(1-0.0771) -> 65222.281 | I12: =I8/12/52.14*47.08*(1-0.0771) -> 65569.505 | J12: =J8/12/52.14*47.08*(1-0.0771) -> 65916.728 | K12: =K8/12/52.14*47.08*(1-0.0771) -> 66263.951 | L12: =L8/12/52.14*47.08*(1-0.0771) -> 66611.175 | M12: =M8/12/52.14*47.08*(1-0.0771) -> 66958.398 | N12: =N8/12/52.14*47.08*(1-0.0771) -> 67305.621 | O12: =O8/12/52.14*47.08*(1-0.0771) -> 67652.844 | Q12: =Q8/12/52.14*47.08*(1-0.0771) -> 69455.211
D13: Offshore pr. time | H13: =H8/1752 -> 536.07192 | I13: =I8/1752 -> 538.9258 | J13: =J8/1752 -> 541.77968 | K13: =K8/1752 -> 544.63356 | L13: =L8/1752 -> 547.48744 | M13: =M8/1752 -> 550.34132 | N13: =N8/1752 -> 553.19521 | O13: =O8/1752 -> 556.04909 | Q13: =Q8/1752 -> 570.86301
D14: Offshore overtid pr. time | H14: =H13*1.65 -> 884.51866 | I14: =I13*1.65 -> 889.22757 | J14: =J13*1.65 -> 893.93647 | K14: =K13*1.65 -> 898.64538 | L14: =L13*1.65 -> 903.35428 | M14: =M13*1.65 -> 908.06318 | N14: =N13*1.65 -> 912.77209 | O14: =O13*1.65 -> 917.48099 | Q14: =Q13*1.65 -> 941.92397
D15: Onshore pr. time | H15: =H10/162.5 -> 327.64626 | I15: =I10/162.5 -> 329.39055 | J15: =J10/162.5 -> 331.13483 | K15: =K10/162.5 -> 332.87912 | L15: =L10/162.5 -> 334.62341 | M15: =M10/162.5 -> 336.3677 | N15: =N10/162.5 -> 338.11198 | O15: =O10/162.5 -> 339.85627 | Q15: =Q10/162.5 -> 348.91052
D16: Onshore overtid 50 % | H16: =H15*1.5 -> 491.46939 | I16: =I15*1.5 -> 494.08582 | J16: =J15*1.5 -> 496.70225 | K16: =K15*1.5 -> 499.31868 | L16: =L15*1.5 -> 501.93511 | M16: =M15*1.5 -> 504.55154 | N16: =N15*1.5 -> 507.16797 | O16: =O15*1.5 -> 509.78441 | Q16: =Q15*1.5 -> 523.36578
D17: Onshore overtid 100 % | H17: =H15*2 -> 655.29252 | I17: =I15*2 -> 658.78109 | J17: =J15*2 -> 662.26967 | K17: =K15*2 -> 665.75824 | L17: =L15*2 -> 669.24682 | M17: =M15*2 -> 672.73539 | N17: =N15*2 -> 676.22397 | O17: =O15*2 -> 679.71254 | Q17: =Q15*2 -> 697.82104
D18: =D8 -> Årslønn | H18: ='Wireline offshore'!H18 -> 911381 | I18: ='Wireline offshore'!I18 -> 916381 | J18: ='Wireline offshore'!J18 -> 921381 | K18: ='Wireline offshore'!K18 -> 926381 | L18: ='Wireline offshore'!L18 -> 931381 | M18: ='Wireline offshore'!M18 -> 936381 | N18: ='Wireline offshore'!N18 -> 941381 | O18: ='Wireline offshore'!O18 -> 946381
D19: =D9 -> Daglig sokkelkompensasjon | H19: =(H18-H18/(1+$I$5))/146 -> 1995.8488 | I19: =(I18-I18/(1+$I$5))/146 -> 2006.7984 | J19: =(J18-J18/(1+$I$5))/146 -> 2017.748 | K19: =(K18-K18/(1+$I$5))/146 -> 2028.6976 | L19: =(L18-L18/(1+$I$5))/146 -> 2039.6471 | M19: =(M18-M18/(1+$I$5))/146 -> 2050.5967 | N19: =(N18-N18/(1+$I$5))/146 -> 2061.5463 | O19: =(O18-O18/(1+$I$5))/146 -> 2072.4959
B20: B | D20: =D10 -> Månedslønn | H20: =(H18-(146*H19))/12 -> 51665.59 | I20: =(I18-(146*I19))/12 -> 51949.036 | J20: =(J18-(146*J19))/12 -> 52232.483 | K20: =(K18-(146*K19))/12 -> 52515.93 | L20: =(L18-(146*L19))/12 -> 52799.376 | M20: =(M18-(146*M19))/12 -> 53082.823 | N20: =(N18-(146*N19))/12 -> 53366.27 | O20: =(O18-(146*O19))/12 -> 53649.717
D21: =D11 -> Justert månedslønn | H21: =H20*47.08/52.14 -> 46651.629 | I21: =I20*47.08/52.14 -> 46907.569 | J21: =J20*47.08/52.14 -> 47163.508 | K21: =K20*47.08/52.14 -> 47419.447 | L21: =L20*47.08/52.14 -> 47675.386 | M21: =M20*47.08/52.14 -> 47931.326 | N21: =N20*47.08/52.14 -> 48187.265 | O21: =O20*47.08/52.14 -> 48443.204
D22: Fastlønn 2-4 skiftplan (7,71 % trekk) | H22: =H18/12/52.14*47.08*(1-0.0771) -> 63290.539 | I22: =I18/12/52.14*47.08*(1-0.0771) -> 63637.763 | J22: =J18/12/52.14*47.08*(1-0.0771) -> 63984.986 | K22: =K18/12/52.14*47.08*(1-0.0771) -> 64332.209 | L22: =L18/12/52.14*47.08*(1-0.0771) -> 64679.433 | M22: =M18/12/52.14*47.08*(1-0.0771) -> 65026.656 | N22: =N18/12/52.14*47.08*(1-0.0771) -> 65373.879 | O22: =O18/12/52.14*47.08*(1-0.0771) -> 65721.102
D23: =D13 -> Offshore pr. time | H23: =H18/1752 -> 520.19463 | I23: =I18/1752 -> 523.04852 | J23: =J18/1752 -> 525.9024 | K23: =K18/1752 -> 528.75628 | L23: =L18/1752 -> 531.61016 | M23: =M18/1752 -> 534.46404 | N23: =N18/1752 -> 537.31792 | O23: =O18/1752 -> 540.1718
D24: =D14 -> Offshore overtid pr. time | H24: =H23*1.65 -> 858.32115 | I24: =I23*1.65 -> 863.03005 | J24: =J23*1.65 -> 867.73896 | K24: =K23*1.65 -> 872.44786 | L24: =L23*1.65 -> 877.15676 | M24: =M23*1.65 -> 881.86567 | N24: =N23*1.65 -> 886.57457 | O24: =O23*1.65 -> 891.28348
D25: =D15 -> Onshore pr. time | H25: =H20/162.5 -> 317.94209 | I25: =I20/162.5 -> 319.68638 | J25: =J20/162.5 -> 321.43066 | K25: =K20/162.5 -> 323.17495 | L25: =L20/162.5 -> 324.91924 | M25: =M20/162.5 -> 326.66353 | N25: =N20/162.5 -> 328.40781 | O25: =O20/162.5 -> 330.1521
D26: =D16 -> Onshore overtid 50 % | H26: =H25*1.5 -> 476.91313 | I26: =I25*1.5 -> 479.52957 | J26: =J25*1.5 -> 482.146 | K26: =K25*1.5 -> 484.76243 | L26: =L25*1.5 -> 487.37886 | M26: =M25*1.5 -> 489.99529 | N26: =N25*1.5 -> 492.61172 | O26: =O25*1.5 -> 495.22815
D27: =D17 -> Onshore overtid 100 % | H27: =H25*2 -> 635.88418 | I27: =I25*2 -> 639.37275 | J27: =J25*2 -> 642.86133 | K27: =K25*2 -> 646.3499 | L27: =L25*2 -> 649.83848 | M27: =M25*2 -> 653.32705 | N27: =N25*2 -> 656.81563 | O27: =O25*2 -> 660.3042
D28: =D18 -> Årslønn | F28: ='Wireline offshore'!F28 -> 872866 | G28: ='Wireline offshore'!G28 -> 888810 | H28: ='Wireline offshore'!H28 -> 892614 | I28: ='Wireline offshore'!I28 -> 897614 | J28: ='Wireline offshore'!J28 -> 902614 | K28: ='Wireline offshore'!K28 -> 907614 | L28: ='Wireline offshore'!L28 -> 912614 | M28: ='Wireline offshore'!M28 -> 917614 | ... O28: ='Wireline offshore'!O28 -> 927614
D29: =D19 -> Daglig sokkelkompensasjon | F29: =(F28-F28/(1+$I$5))/146 -> 1911.5041 | G29: =(G28-G28/(1+$I$5))/146 -> 1946.4202 | H29: =(H28-H28/(1+$I$5))/146 -> 1954.7506 | I29: =(I28-I28/(1+$I$5))/146 -> 1965.7002 | J29: =(J28-J28/(1+$I$5))/146 -> 1976.6498 | K29: =(K28-K28/(1+$I$5))/146 -> 1987.5994 | L29: =(L28-L28/(1+$I$5))/146 -> 1998.549 | M29: =(M28-M28/(1+$I$5))/146 -> 2009.4986 | ... O29: =(O28-O28/(1+$I$5))/146 -> 2031.3977
B30: C | D30: =D20 -> Månedslønn | F30: =(F28-(146*F29))/12 -> 49482.2 | G30: =(G28-(146*G29))/12 -> 50386.054 | H30: =(H28-(146*H29))/12 -> 50601.701 | I30: =(I28-(146*I29))/12 -> 50885.147 | J30: =(J28-(146*J29))/12 -> 51168.594 | K30: =(K28-(146*K29))/12 -> 51452.041 | L30: =(L28-(146*L29))/12 -> 51735.488 | M30: =(M28-(146*M29))/12 -> 52018.934 | ... O30: =(O28-(146*O29))/12 -> 52585.828
D31: =D21 -> Justert månedslønn | F31: =F30*47.08/52.14 -> 44680.13 | G31: =G30*47.08/52.14 -> 45496.269 | H31: =H30*47.08/52.14 -> 45690.987 | I31: =I30*47.08/52.14 -> 45946.926 | J31: =J30*47.08/52.14 -> 46202.866 | K31: =K30*47.08/52.14 -> 46458.805 | L31: =L30*47.08/52.14 -> 46714.744 | M31: =M30*47.08/52.14 -> 46970.683 | ... O31: =O30*47.08/52.14 -> 47482.562
D32: Fastlønn 2-4 skiftplan (7,71 % trekk) | F32: =F28/12/52.14*47.08*(1-0.0771) -> 60615.879 | G32: =G28/12/52.14*47.08*(1-0.0771) -> 61723.104 | H32: =H28/12/52.14*47.08*(1-0.0771) -> 61987.272 | I32: =I28/12/52.14*47.08*(1-0.0771) -> 62334.495 | J32: =J28/12/52.14*47.08*(1-0.0771) -> 62681.718 | K32: =K28/12/52.14*47.08*(1-0.0771) -> 63028.941 | L32: =L28/12/52.14*47.08*(1-0.0771) -> 63376.165 | M32: =M28/12/52.14*47.08*(1-0.0771) -> 63723.388 | ... O32: =O28/12/52.14*47.08*(1-0.0771) -> 64417.835
D33: =D23 -> Offshore pr. time | F33: =F28/1752 -> 498.21119 | G33: =G28/1752 -> 507.31164 | H33: =H28/1752 -> 509.48288 | I33: =I28/1752 -> 512.33676 | J33: =J28/1752 -> 515.19064 | K33: =K28/1752 -> 518.04452 | L33: =L28/1752 -> 520.8984 | M33: =M28/1752 -> 523.75228 | ... O33: =O28/1752 -> 529.46005
D34: =D24 -> Offshore overtid pr. time | F34: =F33*1.65 -> 822.04846 | G34: =G33*1.65 -> 837.06421 | H34: =H33*1.65 -> 840.64675 | I34: =I33*1.65 -> 845.35565 | J34: =J33*1.65 -> 850.06455 | K34: =K33*1.65 -> 854.77346 | L34: =L33*1.65 -> 859.48236 | M34: =M33*1.65 -> 864.19127 | ... O34: =O33*1.65 -> 873.60908
D35: =D25 -> Onshore pr. time | F35: =F30/162.5 -> 304.50584 | G35: =G30/162.5 -> 310.06803 | H35: =H30/162.5 -> 311.39508 | I35: =I30/162.5 -> 313.13937 | J35: =J30/162.5 -> 314.88366 | K35: =K30/162.5 -> 316.62794 | L35: =L30/162.5 -> 318.37223 | M35: =M30/162.5 -> 320.11652 | ... O35: =O30/162.5 -> 323.60509
D36: =D26 -> Onshore overtid 50 % | F36: =F35*1.5 -> 456.75877 | G36: =G35*1.5 -> 465.10204 | H36: =H35*1.5 -> 467.09262 | I36: =I35*1.5 -> 469.70905 | J36: =J35*1.5 -> 472.32548 | K36: =K35*1.5 -> 474.94192 | L36: =L35*1.5 -> 477.55835 | M36: =M35*1.5 -> 480.17478 | ... O36: =O35*1.5 -> 485.40764
D37: =D27 -> Onshore overtid 100 % | F37: =F35*2 -> 609.01169 | G37: =G35*2 -> 620.13605 | H37: =H35*2 -> 622.79016 | I37: =I35*2 -> 626.27874 | J37: =J35*2 -> 629.76731 | K37: =K35*2 -> 633.25589 | L37: =L35*2 -> 636.74446 | M37: =M35*2 -> 640.23304 | ... O37: =O35*2 -> 647.21019
D38: =D28 -> Årslønn | H38: ='Wireline offshore'!H38 -> 820187 | I38: ='Wireline offshore'!I38 -> 825187 | J38: ='Wireline offshore'!J38 -> 830187 | K38: ='Wireline offshore'!K38 -> 835187 | L38: ='Wireline offshore'!L38 -> 840187 | M38: ='Wireline offshore'!M38 -> 845187 | N38: 850187 | O38: 855187
D39: =D29 -> Daglig sokkelkompensasjon | H39: =(H38-H38/(1+$I$5))/146 -> 1796.1415 | I39: =(I38-I38/(1+$I$5))/146 -> 1807.0911 | J39: =(J38-J38/(1+$I$5))/146 -> 1818.0407 | K39: =(K38-K38/(1+$I$5))/146 -> 1828.9903 | L39: =(L38-L38/(1+$I$5))/146 -> 1839.9398 | M39: =(M38-M38/(1+$I$5))/146 -> 1850.8894
B40: E | D40: =D30 -> Månedslønn | H40: =(H38-(146*H39))/12 -> 46495.862 | I40: =(I38-(146*I39))/12 -> 46779.308 | J40: =(J38-(146*J39))/12 -> 47062.755 | K40: =(K38-(146*K39))/12 -> 47346.202 | L40: =(L38-(146*L39))/12 -> 47629.649 | M40: =(M38-(146*M39))/12 -> 47913.095
D41: =D31 -> Justert månedslønn | H41: =H40*47.08/52.14 -> 41983.605 | I41: =I40*47.08/52.14 -> 42239.544 | J41: =J40*47.08/52.14 -> 42495.484 | K41: =K40*47.08/52.14 -> 42751.423 | L41: =L40*47.08/52.14 -> 43007.362 | M41: =M40*47.08/52.14 -> 43263.301
D42: Fastlønn 2-4 skiftplan (7,71 % trekk) | H42: =H38/12/52.14*47.08*(1-0.0771) -> 56957.604 | I42: =I38/12/52.14*47.08*(1-0.0771) -> 57304.827 | J42: =J38/12/52.14*47.08*(1-0.0771) -> 57652.05 | K42: =K38/12/52.14*47.08*(1-0.0771) -> 57999.273 | L42: =L38/12/52.14*47.08*(1-0.0771) -> 58346.497 | M42: =M38/12/52.14*47.08*(1-0.0771) -> 58693.72
D43: =D33 -> Offshore pr. time | H43: =H38/1752 -> 468.14326 | I43: =I38/1752 -> 470.99715 | J43: =J38/1752 -> 473.85103 | K43: =K38/1752 -> 476.70491 | L43: =L38/1752 -> 479.55879 | M43: =M38/1752 -> 482.41267
...
